BEGIN:VCALENDAR
VERSION:2.0
PRODID:-//wp-events-plugin.com//6.5.2//EN
TZID:Europe/Warsaw
X-WR-TIMEZONE:Europe/Warsaw
BEGIN:VEVENT
UID:40@flexensemble.com
DTSTART;TZID=Europe/Warsaw:20251118T193000
DTEND;TZID=Europe/Warsaw:20251118T213000
DTSTAMP:20251002T210853Z
URL:https://flexensemble.com/events/impuls-salonkonzert-enescu/
SUMMARY:imPULS SalonKonzert: About Enescu
DESCRIPTION:Programm:\nGeorge Enescu - Aubade für Streichtrio &amp\; Klavi
 erquartett Nr. 1 D-Dur op. 16\nBéla Bartók - Romanian Folk Dances für K
 lavier Solo\nJohannes Brahms - Ungarische Tänze in einer neuen Bearbeitun
 g für Klavierquartett von Pawel Zuzanski (2025)\n\nDas neue SalonKonzerte
 -Programm des Flex Ensembles verbindet drei Komponisten\, die sich bei ihr
 er Arbeit von Volksmusik inspirieren ließen. Enescu\, Bartók und Brahms 
 schöpfen zwar aus rumänischen und ungarischen Traditionen\, interpretier
 en diese jedoch jeweils aus ihrer individuellen Perspektive: Bartók analy
 tisch und stilisiert\, Brahms romantisch und tänzerisch\, Enescu expressi
 v und farbenreich.\nZentrales Werk ist dabei Enescus monumentales Klavierq
 uartett op. 16\, das sowohl seine Herkunft als auch seine Nähe zur franz
 ösischen Musik widerspiegelt. Die Bearbeitung der Ungarischen Tänze durc
 h Pawel Zuzanski schlägt zudem eine Brücke zwischen Vergangenheit und Ge
 genwart. So entsteht ein musikalischer Dialog zwischen Nationalstilen\, Ep
 ochen und Persönlichkeiten – vereint durch die Suche nach einer eigenen
 \, lebendigen Tonsprache.\n\nFlex Ensemble\, Klavierquartett\n\nEinführun
 g: Dr. Roberto Reale\, Musikwissenschaftler\n\nEintritt frei. Pay what you
  can. Reservierung empfohlen.
ATTACH;FMTTYPE=image/jpeg:https://flexensemble.com/wp-content/uploads/2023
 /10/IMG_7174-scaled.jpg
LOCATION:Börse Hannover\, An der Börse 2\, Hannover\, Deutschland
X-APPLE-STRUCTURED-LOCATION;VALUE=URI;X-ADDRESS=An der Börse 2\, Hannover\
 , Deutschland;X-APPLE-RADIUS=100;X-TITLE=Börse Hannover:geo:0,0
END:VEVENT
BEGIN:VTIMEZONE
TZID:Europe/Warsaw
X-LIC-LOCATION:Europe/Warsaw
BEGIN:STANDARD
DTSTART:20251026T020000
TZOFFSETFROM:+0200
TZOFFSETTO:+0100
TZNAME:CET
END:STANDARD
END:VTIMEZONE
END:VCALENDAR