BEGIN:VCALENDAR
VERSION:2.0
PRODID:-//wp-events-plugin.com//6.5.2//EN
TZID:Europe/Warsaw
X-WR-TIMEZONE:Europe/Warsaw
BEGIN:VEVENT
UID:5@flexensemble.com
DTSTART;TZID=Europe/Warsaw:20231210T150000
DTEND;TZID=Europe/Warsaw:20231210T163000
DTSTAMP:20231029T093140Z
URL:https://flexensemble.com/events/calder-moves-2/
SUMMARY:Calder Moves
DESCRIPTION:Calder Moves\nA New\, Intimate Immersive Experience\nFeaturing 
 Music\, Dance and Art\n\n„Calder Moves"\, eine Koproduktion von Tom Pear
 son (Global Performance Studio/Third Rail Projects\, New York) und dem Fle
 x Ensemble\, ist eine Einladung an das Publikum\, an einer interaktiven\, 
 experimentellen Performance teilzunehmen und sich in einer immersiven Erfa
 hrung durch den Calder-Saal des Sprengel Museums zu bewegen.\n\nIm Mittelp
 unkt steht die Kunst von Alexander Calder (1898-1976). Ihre Ästhetik des 
 Staunens\, der Laune und des Zufalls mit der Musik von Witold Lutosławski
 \, John Cage\, Caroline Shaw und Brigitta Muntendorf (UA) aufgreifend\, er
 schaffen die Musiker*innen und Performer*innen zusammen mit dem Publikum k
 langliche und visuelle „Mobiles". Diese feiern Calders Werk und fordern 
 nicht nur auf\, innezuhalten und zur Kenntnis zu nehmen\, sondern teilzune
 hmen\, zu spielen und einzutauchen - visuell\, akustisch und somatisch in 
 das zielgerichtete Wunder des Ganzen.\n\nKünstler*innen:\nFlex Ensemble (
 Klavierquartett + Performance)\, Lisa Werhahn (Violine + Performance)\, Ma
 rissa Nielsen-Pincus\, Simon Kluth (Performance) und Tom Pearson (Regie)\n
 \nProgramm:\nWitold Lutosławski - Streichquartett\nJohn Cage – Suite fo
 r toy piano &amp\; 5”\nCaroline Shaw - Limestone &amp\; Felt for viola a
 nd cello\nBrigitta Muntendorf - (UA) Autragskomposition für das Flex Ense
 mble\n\nSprengel Museum Hannover\, Calder Saal\n9. Dezember 2023\, 16 Uhr\
 n10. Dezember 2023\, 15 Uhr + 18 Uhr\n\nBegrenzte Platzanzahl - Bitte um v
 erbindliche Reservierung\n\nEintritt frei. Pay what you can. Wir möchten 
 allen Interessierten den Besuch unserer Konzerte ermöglichen. Für unsere
  Tickets schlagen wir Ihnen einen Preis von 20 Euro vor – Sie haben aber
  die Möglichkeit\, den Eintrittspreis anzupassen: So entscheiden Sie\, wa
 s Ihnen das Konzert wert ist und was Sie zahlen können oder wollen.\n\n
ATTACH;FMTTYPE=image/jpeg:https://flexensemble.com/wp-content/uploads/2023
 /10/IMG_6955-scaled.jpg
LOCATION:Sprengel Museum Hannover - Calder Saal\, Kurt-Schwitters-Platz\, H
 annover\, Niedersachsen\, 30169\, Deutschland
X-APPLE-STRUCTURED-LOCATION;VALUE=URI;X-ADDRESS=Kurt-Schwitters-Platz\, Han
 nover\, Niedersachsen\, 30169\, Deutschland;X-APPLE-RADIUS=100;X-TITLE=Spr
 engel Museum Hannover - Calder Saal:geo:0,0
END:VEVENT
BEGIN:VTIMEZONE
TZID:Europe/Warsaw
X-LIC-LOCATION:Europe/Warsaw
BEGIN:STANDARD
DTSTART:20231029T020000
TZOFFSETFROM:+0200
TZOFFSETTO:+0100
TZNAME:CET
END:STANDARD
END:VTIMEZONE
END:VCALENDAR